BEGIN:VCALENDAR
VERSION:2.0
PRODID:-//WP EVENT Manager Ical//NONSGML Events //EN
CALSCALE:GREGORIAN

BEGIN:VEVENT

DTSTART:20241122T100000Z
DTEND:20241224T170000Z
LOCATION:Old MacDonald's Farm & Fun Park, Weald Road, Brentwood
SUMMARY:The Christmas Journey
DESCRIPTION:<p>The Christmas Journey The Christmas Journey will be taking place from November 22nd until December 24th at Old Macdonald&#8217;s Farm in Brentwood, Essex. Step into this Magical Christmas Wonderland&#8230; Old Macdonald&#8217;s Farm have created a very special Christmas Journey for you to make some amazing magical memories together. There&#8217;s so much to see and so&#8230;</p>
<p>The post <a href="https://raring2go.co.uk/event/the-christmas-journey/">The Christmas Journey</a> appeared first on <a href="https://raring2go.co.uk">Raring2go!</a>.</p>

END:VEVENT
END:VCALENDAR
