BEGIN:VCALENDAR
VERSION:2.0
PRODID:-//WP EVENT Manager Ical//NONSGML Events //EN
CALSCALE:GREGORIAN

BEGIN:VEVENT

DTSTART:20250805T080000Z
DTEND:20250821T140000Z
LOCATION:Stourbridge Rugby, Bridgnorth Road, Stourton, Stourbridge
SUMMARY:Summer Football Coaching Camp
DESCRIPTION:<p>TFA Summer Football Coaching Camp. Experience top-notch football training at TFA&#8217;s coaching camps, led by former professional footballers Jimmy O&#8217;Connor and Russ Penn. Our camps in the Stourbridge area offer young athletes aged 6-14 the chance to enhance their skills, make new friends, and have fun in a professional setting. &#160; For boys and girls,&#8230;</p>
<p>The post <a href="https://raring2go.co.uk/event/summer-football-coaching-camp/">Summer Football Coaching Camp</a> appeared first on <a href="https://raring2go.co.uk">Raring2go!</a>.</p>

END:VEVENT
END:VCALENDAR
