BEGIN:VCALENDAR
VERSION:2.0
PRODID:-//WP EVENT Manager Ical//NONSGML Events //EN
CALSCALE:GREGORIAN

BEGIN:VEVENT

DTSTART:20231227T124931Z
DTEND:20231230T124931Z
LOCATION:The Stand Comedy Club Newcastle, High Bridge, Newcastle upon Tyne
SUMMARY:Lee Kyle’s Gungestravaganza, The Stand, Newcastle
DESCRIPTION:<p>Lee Kyle: Gungestravaganza!A festive comedy game show for families who aren’t boring.27th-30th December 4pm From £6.00 to £8.00 60 mins approx For age 6+ and above (6+) Lee Kyle’s Christmas family comedy shows at The Stand have become something of a tradition among families in the know over the last few years, among other things,&#8230;</p>
<p>The post <a href="https://raring2go.co.uk/event/lee-kyles-gungestravaganza/">Lee Kyle&#8217;s Gungestravaganza, The Stand, Newcastle</a> appeared first on <a href="https://raring2go.co.uk">Raring2go!</a>.</p>

END:VEVENT
END:VCALENDAR
