BEGIN:VCALENDAR
VERSION:2.0
PRODID:-//WP EVENT Manager Ical//NONSGML Events //EN
CALSCALE:GREGORIAN

BEGIN:VEVENT

DTSTART:20260403T132816Z
DTEND:20260411T132816Z
LOCATION:Stanley Square, Market Walk, Sale
SUMMARY:Dino Egg Hunt, Stanley Square, Sale
DESCRIPTION:<p>DINO EGG HUNT / Stanley Square Sale / 3rd April &#8211; 11th April / 10am &#8211; 4pm / Collect free trail maps from Bean &#38; Brush Art Cafe Millions of years ago… the dinosaurs hid their eggs to keep them safe. Now the eggs have reappeared around Stanley Square and the Dino Keepers need help&#8230;</p>
<p>The post <a href="https://raring2go.co.uk/event/egg-trail-stanley-square/">Dino Egg Hunt, Stanley Square, Sale</a> appeared first on <a href="https://raring2go.co.uk">Raring2go!</a>.</p>

END:VEVENT
END:VCALENDAR
