BEGIN:VCALENDAR
VERSION:2.0
PRODID:-//WP EVENT Manager Ical//NONSGML Events //EN
CALSCALE:GREGORIAN

BEGIN:VEVENT

DTSTART:20231123T183000Z
DTEND:20231231T204500Z
LOCATION:Queen's Theatre, Billet Lane, Hornchurch
SUMMARY:Dick Whittington Pantomime
DESCRIPTION:<p>Dick Whittington Pantomime Dick Whittington Pantomime &#8211; is A purrr-fect magical rags to riches tale! Join plucky Dick Whittington and trusty cat on their quest for fame and fortune. Arriving in London, disaster strikes, as the streets aren’t paved with gold, but overrun with rats unleashing hell across the city… So as Dick sets out&#8230;</p>
<p>The post <a href="https://raring2go.co.uk/event/dick-whittington-pantomime/">Dick Whittington Pantomime</a> appeared first on <a href="https://raring2go.co.uk">Raring2go!</a>.</p>

END:VEVENT
END:VCALENDAR
