BEGIN:VCALENDAR
VERSION:2.0
PRODID:-//WP EVENT Manager Ical//NONSGML Events //EN
CALSCALE:GREGORIAN

BEGIN:VEVENT

DTSTART:20230403T104431Z
DTEND:20230409T104431Z
LOCATION:York's Chocolate Story, King's Square, York
SUMMARY:Easter Masterclass at York’s Chocolate Story
DESCRIPTION:<p>Chocotastic crafting of stunning Easter products while sampling some of the finest chocolates with our chocolatier-led masterclass. Join our master chocolatiers who will teach you the secrets of chocolate making as they guide you through decorating your perfect Easter egg. You&#8217;ll make exquisite chocolate truffles and learn techniques to try at home. Perfect for all&#8230;</p>
<p>The post <a href="https://raring2go.co.uk/event/yorks-chocolate-story-easter-masterclass/">Easter Masterclass at York&#8217;s Chocolate Story</a> appeared first on <a href="https://raring2go.co.uk">Raring2go!</a>.</p>

END:VEVENT
END:VCALENDAR
