BEGIN:VCALENDAR
VERSION:2.0
PRODID:-//WP EVENT Manager Ical//NONSGML Events //EN
CALSCALE:GREGORIAN

BEGIN:VEVENT

DTSTART:20260509T151414Z
DTEND:20260509T151414Z
LOCATION:Wolverhampton Grammar School, Compton Road, Wolverhampton
SUMMARY:Year 5 Discovery Day at Wolverhampton Grammar School
DESCRIPTION:<p>For children looking to join Wolverhampton Grammar School in Year 7 in 2027. Saturday 9th May 2026 This exciting day provides an excellent opportunity for all Year 5 children to explore the school’s state-of-the-art facilities, including modern classrooms, science labs, the sports hall, and performance spaces. Students will also have the opportunity to meet future&#8230;</p>
<p>The post <a href="https://raring2go.co.uk/event/year5-discovery-day-open-day-at-wolverhampton-grammar-school/">Year 5 Discovery Day at Wolverhampton Grammar School</a> appeared first on <a href="https://raring2go.co.uk">Raring2go!</a>.</p>

END:VEVENT
END:VCALENDAR
