BEGIN:VCALENDAR
VERSION:2.0
PRODID:-//WP EVENT Manager Ical//NONSGML Events //EN
CALSCALE:GREGORIAN

BEGIN:VEVENT

DTSTART:20231203T110000Z
DTEND:20231203T150000Z
LOCATION:Tweed way hall Community Association, Tweed Way, Collier Row, Romford
SUMMARY:Xmas Bazar – Tweed Way Hall, Collier Row
DESCRIPTION:<p>Xmas Bazar &#8211; Tweed Way Hall, Collier Row Visit Santa&#8217;s Grotto Stalls &#124; Crafts &#124; Refreshments &#38; Much More! Sunday 3rd December 11am &#8211; 3pm Tweed Way Hall, Tweed Way, Collier Row, RM1 4AZ To host your own stall: tweedwayevents@gmail.com &#160;</p>
<p>The post <a href="https://raring2go.co.uk/event/xmas-bazar-tweed-way-hall-collier-row/">Xmas Bazar &#8211; Tweed Way Hall, Collier Row</a> appeared first on <a href="https://raring2go.co.uk">Raring2go!</a>.</p>

END:VEVENT
END:VCALENDAR
