BEGIN:VCALENDAR
VERSION:2.0
PRODID:-//WP EVENT Manager Ical//NONSGML Events //EN
CALSCALE:GREGORIAN

BEGIN:VEVENT

DTSTART:20231030T044741Z
DTEND:20231029T044738Z
LOCATION:Wrest Park, Silsoe, Bedfordshire
SUMMARY:Wrest Park & Halloween Half-Term @ Wrest Park
DESCRIPTION:<p>Wrest Park &#38; Halloween Half-Term @ Wrest Park 21 &#8211; 29 Oct Grab your broomsticks and get ready for a bewitchingly brilliant day out. Gather round for tales from spooky storytellers and solve creepy clues in our Halloween Quest. https://www.english-heritage.org.uk/visit/whats-on/wrest-park-halloween-half-term/ &#160;</p>
<p>The post <a href="https://raring2go.co.uk/event/wrest-park-halloween-half-term-wrest-park/">Wrest Park &amp; Halloween Half-Term @ Wrest Park</a> appeared first on <a href="https://raring2go.co.uk">Raring2go!</a>.</p>

END:VEVENT
END:VCALENDAR
