BEGIN:VCALENDAR
VERSION:2.0
PRODID:-//WP EVENT Manager Ical//NONSGML Events //EN
CALSCALE:GREGORIAN

BEGIN:VEVENT

DTSTART:20230709T090000Z
DTEND:20230709T140000Z
LOCATION:Durrington Community Centre, Romany Road, Worthing
SUMMARY:Worthing Toy and Comic Fair
DESCRIPTION:<p>The best traders of brand new and preloved toys and comics will be at Worthing Toy and Comic Fair to provide a summer treat for the whole family!!! A whole day of excitement right before the school holidays!!! Featuring the best brand new and preloved toys and comics from your favourite movies and TV series!!&#8230;</p>
<p>The post <a href="https://raring2go.co.uk/event/worthing-toy-and-comic-fair/">Worthing Toy and Comic Fair</a> appeared first on <a href="https://raring2go.co.uk">Raring2go!</a>.</p>

END:VEVENT
END:VCALENDAR
