BEGIN:VCALENDAR
VERSION:2.0
PRODID:-//WP EVENT Manager Ical//NONSGML Events //EN
CALSCALE:GREGORIAN

BEGIN:VEVENT

DTSTART:20251126T092332Z
DTEND:20260222T092332Z
LOCATION:Steyne Gardens, Worthing
SUMMARY:Worthing Ice Rink
DESCRIPTION:<p>We once again look forward to welcoming you to our great under-cover Worthing ice rink to celebrate the Christmas period and ring in the new year.  We welcome skaters of all ages and abilities over the age of 4 years. Our penguin skate aids are available for hire to assist our skaters if required (height&#8230;</p>
<p>The post <a href="https://raring2go.co.uk/event/worthing-ice-rink-2/">Worthing Ice Rink</a> appeared first on <a href="https://raring2go.co.uk">Raring2go!</a>.</p>

END:VEVENT
END:VCALENDAR
