BEGIN:VCALENDAR
VERSION:2.0
PRODID:-//WP EVENT Manager Ical//NONSGML Events //EN
CALSCALE:GREGORIAN

BEGIN:VEVENT

DTSTART:20250308T120000Z
DTEND:20250308T160000Z
LOCATION:New art gallery Walsall, Gallery Square, Walsall
SUMMARY:World Book Day: Peacocks & Peahens at The New Art Gallery Walsall
DESCRIPTION:<p>Saturday 8 March Free Drop-in 12-4pm All welcome. We invite families to join us for a celebration of books, stories, art and poetry inspired by peacocks. Enjoy special performances of Princess and the Peacock by Sonia Sabri Company (11.30am, 1pm &#38; 2.30pm),  and join Pep the Poet for funny, interactive performances of his poem The&#8230;</p>
<p>The post <a href="https://raring2go.co.uk/event/world-book-day-peacocks-peahens-at-the-new-art-gallery-walsall/">World Book Day: Peacocks &amp; Peahens at The New Art Gallery Walsall</a> appeared first on <a href="https://raring2go.co.uk">Raring2go!</a>.</p>

END:VEVENT
END:VCALENDAR
