BEGIN:VCALENDAR
VERSION:2.0
PRODID:-//WP EVENT Manager Ical//NONSGML Events //EN
CALSCALE:GREGORIAN

BEGIN:VEVENT

DTSTART:20240704T230000Z
DTEND:20240730T230000Z
LOCATION:Rotherham
SUMMARY:Wear It Blue Day
DESCRIPTION:<p>Date: Friday 5 July 2024 Details: Our annual Wear it Blue Day celebrates the NHS&#8217; birthday on 5 July. You are invited to fundraise for us in your local community, school or workplace by wearing blue for the day &#8211; just like the iconic uniforms and scrubs NHS staff wear every day. Anything goes &#8211; whether you&#8230;</p>
<p>The post <a href="https://raring2go.co.uk/event/wear-it-blue-day/">Wear It Blue Day</a> appeared first on <a href="https://raring2go.co.uk">Raring2go!</a>.</p>

END:VEVENT
END:VCALENDAR
