BEGIN:VCALENDAR
VERSION:2.0
PRODID:-//WP EVENT Manager Ical//NONSGML Events //EN
CALSCALE:GREGORIAN

BEGIN:VEVENT

DTSTART:20240706T110000Z
DTEND:20240706T170000Z
LOCATION:Ruskin Park, Sheffield S6 3RG
SUMMARY:Walkley Festival Finale 24
DESCRIPTION:<p>Walkley Festival theme this year is makers and creators, so expect to see lots of artisan makers at the mega market, delicious locally made fresh street food, locally brewed beverages, cocktails and other refreshments as well as musical creatives performing live on the two stages. A family friendly event which includes an artistic children zone,&#8230;</p>
<p>The post <a href="https://raring2go.co.uk/event/walkley-festival-finale-24/">Walkley Festival Finale 24</a> appeared first on <a href="https://raring2go.co.uk">Raring2go!</a>.</p>

END:VEVENT
END:VCALENDAR
