BEGIN:VCALENDAR
VERSION:2.0
PRODID:-//WP EVENT Manager Ical//NONSGML Events //EN
CALSCALE:GREGORIAN

BEGIN:VEVENT

DTSTART:20230708T230000Z
DTEND:20230708T230000Z
LOCATION:Staunton Country Park, Petersfield Road, Havant
SUMMARY:Walk for Wards
DESCRIPTION:<p>Walk for Wards is back for 2023 with a brand-new route! Formerly known as the WardWalk, Walk for Wards is a great opportunity to raise funds for a ward or department of your choice. Last year, over 150 people signed up and over £15,000 was raised. Join us this year by walking 7.5km in celebration of the NHS&#8217;&#8230;</p>
<p>The post <a href="https://raring2go.co.uk/event/walk-for-wards/">Walk for Wards</a> appeared first on <a href="https://raring2go.co.uk">Raring2go!</a>.</p>

END:VEVENT
END:VCALENDAR
