BEGIN:VCALENDAR
VERSION:2.0
PRODID:-//WP EVENT Manager Ical//NONSGML Events //EN
CALSCALE:GREGORIAN

BEGIN:VEVENT

DTSTART:20221205T193000Z
DTEND:20221210T213000Z
LOCATION:Studio Theatre Salisbury, Ashley Road, Salisbury
SUMMARY:Treasure Island Panto
DESCRIPTION:<p>Studio Theatre brings you a hilarious family-friendly Panto filled with pirates, smugglers, and treasure. It is 1756. Mrs ‘awkins, landlady of the Admiral Bimbo, her servant boy Jim, Squire Bilgewater, and Dr Dimworthy are off to Treasure Island to find Cap’n Flint’s treasure. Will Long John and his dastardly pirates or the feisty girl smugglers&#8230;</p>
<p>The post <a href="https://raring2go.co.uk/event/treasure-island-panto/">Treasure Island Panto</a> appeared first on <a href="https://raring2go.co.uk">Raring2go!</a>.</p>

END:VEVENT
END:VCALENDAR
