BEGIN:VCALENDAR
VERSION:2.0
PRODID:-//WP EVENT Manager Ical//NONSGML Events //EN
CALSCALE:GREGORIAN

BEGIN:VEVENT

DTSTART:20240421T130000Z
DTEND:20240421T150000Z
LOCATION:Stourbridge Town Hall, Crown Lane, Stourbridge
SUMMARY:Treasure Island at Stourbridge Town Hall
DESCRIPTION:<p>Join us aboard the Jolly Roger for a swashbuckling pantomime adventure &#8216;Treasure Island&#8217; like you&#8217;ve never seen before. Set sail with our talented cast of performers as they take you on an action-packed journey to find the legendary buried treasure. Get ready to cheer for your favourite heroes, boo the dastardly villains, and sing along&#8230;</p>
<p>The post <a href="https://raring2go.co.uk/event/treasure-island-at-stourbridge-town-hall/">Treasure Island at Stourbridge Town Hall</a> appeared first on <a href="https://raring2go.co.uk">Raring2go!</a>.</p>

END:VEVENT
END:VCALENDAR
