BEGIN:VCALENDAR
VERSION:2.0
PRODID:-//WP EVENT Manager Ical//NONSGML Events //EN
CALSCALE:GREGORIAN

BEGIN:VEVENT

DTSTART:20240720T121330Z
DTEND:20240831T121330Z
LOCATION:Coventry Transport Museum, Hales Street, Coventry
SUMMARY:Tinker Make Play Engineers: Future at Coventry Transport Museum
DESCRIPTION:<p>Our Tinker &#124; Make &#124; Play workshop space is back at Coventry Transport Museum in Summer 2024 for you to choose from a variety of activities to playfully explore and come up with a creation fit for our Future. Thursdays &#38; Saturdays &#124; 20 July &#8211; 31 August 2024 &#124; 10am &#8211; 3pm &#8211; Free/&#8230;</p>
<p>The post <a href="https://raring2go.co.uk/event/tinker-make-play-engineers-future-at-coventry-transport-museum/">Tinker Make Play Engineers: Future at Coventry Transport Museum</a> appeared first on <a href="https://raring2go.co.uk">Raring2go!</a>.</p>

END:VEVENT
END:VCALENDAR
