BEGIN:VCALENDAR
VERSION:2.0
PRODID:-//WP EVENT Manager Ical//NONSGML Events //EN
CALSCALE:GREGORIAN

BEGIN:VEVENT

DTSTART:20240724T095240Z
DTEND:20240828T095240Z
LOCATION:Thinktank Birmingham Science Museum, Curzon Street, Birmingham
SUMMARY:Thinktank Lego Workshops (Wednesdays)
DESCRIPTION:<p>Join us each Wednesday this summer holiday to create your own invention using our LEGO kits. Use our WeDo kits to build, program and customise your very own Science Rover! What will you name your Rover? What sounds will it make? What distant planet will it explore? The workshop will run for 45 minutes. Pre-booking is&#8230;</p>
<p>The post <a href="https://raring2go.co.uk/event/thinktank-lego-workshops-wednesdays/">Thinktank Lego Workshops (Wednesdays)</a> appeared first on <a href="https://raring2go.co.uk">Raring2go!</a>.</p>

END:VEVENT
END:VCALENDAR
