BEGIN:VCALENDAR
VERSION:2.0
PRODID:-//WP EVENT Manager Ical//NONSGML Events //EN
CALSCALE:GREGORIAN

BEGIN:VEVENT

DTSTART:20250731T152052Z
DTEND:20250802T152052Z
LOCATION:The Courtyard, Hereford
SUMMARY:The Wizard of Oz at The Courtyard
DESCRIPTION:<p>The Wizard of Oz at The Courtyard Follow Ludwig Theatre Arts, who also brought you Matilda, Les Misérables &#38; Chicago, down the Yellow Brick Road to the magical Land of Oz! In this delightful stage adaptation of L. Frank Baum’s beloved tale, young Dorothy Gale travels from Kansas over the rainbow to the magical Land&#8230;</p>
<p>The post <a href="https://raring2go.co.uk/event/the-wizard-of-oz-at-the-courtyard/">The Wizard of Oz at The Courtyard</a> appeared first on <a href="https://raring2go.co.uk">Raring2go!</a>.</p>

END:VEVENT
END:VCALENDAR
