BEGIN:VCALENDAR
VERSION:2.0
PRODID:-//WP EVENT Manager Ical//NONSGML Events //EN
CALSCALE:GREGORIAN

BEGIN:VEVENT

DTSTART:20250323T162108Z
DTEND:20250323T162108Z
LOCATION:Queens Hall, Beaumont Street, Hexham
SUMMARY:The Very Hungry Caterpillar Show
DESCRIPTION:<p>Queen&#8217;s Hall Art Centre Sunday 23rd March. 1.30pm &#38; 4pm Presented by Rockefeller This vibrant celebration of Eric Carle’s adored classics, featuring 75 lovable puppets, is the perfect introduction to live theatre and is suitable for audiences of all ages. Tickets from £13</p>
<p>The post <a href="https://raring2go.co.uk/event/the-very-hungry-caterpillar-show-2/">The Very Hungry Caterpillar Show</a> appeared first on <a href="https://raring2go.co.uk">Raring2go!</a>.</p>

END:VEVENT
END:VCALENDAR
