BEGIN:VCALENDAR
VERSION:2.0
PRODID:-//WP EVENT Manager Ical//NONSGML Events //EN
CALSCALE:GREGORIAN

BEGIN:VEVENT

DTSTART:20260529T103000Z
DTEND:20260529T153000Z
LOCATION:Stourbridge Town Hall, Crown Lane, Stourbridge
SUMMARY:The Utterly Revolting Science Show
DESCRIPTION:<p>Cross Platform TV Presents: The Utterly Revolting Science Show &#160; The spectacular, hilarious, highly explosive science stunt show. Brace yourselves for the Rude Science team&#8217;s hilarious, high-tech, highly-explosive new journey through the human body, packed with burp biology, fart physics and revolting edible chemistry. Expect enormous bottoms, edible fireworks, burp machines and the world&#8217;s loudest fart in&#8230;</p>
<p>The post <a href="https://raring2go.co.uk/event/the-utterly-revolting-science-show/">The Utterly Revolting Science Show</a> appeared first on <a href="https://raring2go.co.uk">Raring2go!</a>.</p>

END:VEVENT
END:VCALENDAR
