BEGIN:VCALENDAR
VERSION:2.0
PRODID:-//WP EVENT Manager Ical//NONSGML Events //EN
CALSCALE:GREGORIAN

BEGIN:VEVENT

DTSTART:20240719T123000Z
DTEND:20240720T140000Z
LOCATION:New Victoria Theatre, Woking
SUMMARY:The Tiger Who Came To Tea
DESCRIPTION:<p>The doorbell rings just as Sophie and her mummy are sitting down to tea. Who could it possibly be? What they certainly don’t expect to see at the door is a big, stripy tiger! Direct from the West End, the Olivier Award nominated smash hit show, The Tiger Who Came to Tea returns to New Victoria Theatre&#8230;</p>
<p>The post <a href="https://raring2go.co.uk/event/the-tiger-who-came-to-tea-5/">The Tiger Who Came To Tea</a> appeared first on <a href="https://raring2go.co.uk">Raring2go!</a>.</p>

END:VEVENT
END:VCALENDAR
