BEGIN:VCALENDAR
VERSION:2.0
PRODID:-//WP EVENT Manager Ical//NONSGML Events //EN
CALSCALE:GREGORIAN

BEGIN:VEVENT

DTSTART:20231221T160000Z
DTEND:20231221T173000Z
LOCATION:Chester Cathedral, Saint Werburgh Street, Chester
SUMMARY:The Snowman film with live orchestra including Wallace & Gromit: The Wrong Trousers
DESCRIPTION:<p>Make it a Christmas to remember with a very special performance featuring two of the UK’s best-loved and iconic animated films, The Snowman and Wallace &#38; Gromit: The Wrong Trousers, with live accompaniment from an outstanding professional orchestra. Presented by Carrot Productions – the world&#8217;s leading performers of The Snowman film with orchestra, and currently&#8230;</p>
<p>The post <a href="https://raring2go.co.uk/event/the-snowman-film-with-live-orchestra-including-wallace-gromit-the-wrong-trousers-11/">The Snowman film with live orchestra including Wallace &amp; Gromit: The Wrong Trousers</a> appeared first on <a href="https://raring2go.co.uk">Raring2go!</a>.</p>

END:VEVENT
END:VCALENDAR
