BEGIN:VCALENDAR
VERSION:2.0
PRODID:-//WP EVENT Manager Ical//NONSGML Events //EN
CALSCALE:GREGORIAN

BEGIN:VEVENT

DTSTART:20231223T110000Z
DTEND:20231223T153000Z
LOCATION:Princes Mead, Princes Mead, Farnborough
SUMMARY:The Snow Queen – Princes Mead Shopping Centre Farnborough
DESCRIPTION:<p>Join us at Princes Mead on Saturday 23rd December from 11am to 3:30pm for an enchanting encounter with the Snow Queen. As she graces us with her presence, she brings with her a touch of winter’s magic. It’s a moment of wonder and delight that will add a special sparkle to your holiday season. So&#8230;</p>
<p>The post <a href="https://raring2go.co.uk/event/the-snow-queen-princes-mead-shopping-centre-farnborough/">The Snow Queen – Princes Mead Shopping Centre Farnborough</a> appeared first on <a href="https://raring2go.co.uk">Raring2go!</a>.</p>

END:VEVENT
END:VCALENDAR
