BEGIN:VCALENDAR
VERSION:2.0
PRODID:-//WP EVENT Manager Ical//NONSGML Events //EN
CALSCALE:GREGORIAN

BEGIN:VEVENT

DTSTART:20240705T090000Z
DTEND:20240707T132441Z
LOCATION:Master Park, Church Lane, Oxted
SUMMARY:The Oxted Festival
DESCRIPTION:<p>In the heart of our community, a remarkable event has been blossoming since 2012 – The Oxted Festival. This unique festival, brought to life by a dedicated team of volunteers, is more than just a celebration of music and culture. It&#8217;s a platform for creating positive change, with all proceeds going directly towards charity and&#8230;</p>
<p>The post <a href="https://raring2go.co.uk/event/the-oxted-festival/">The Oxted Festival</a> appeared first on <a href="https://raring2go.co.uk">Raring2go!</a>.</p>

END:VEVENT
END:VCALENDAR
