BEGIN:VCALENDAR
VERSION:2.0
PRODID:-//WP EVENT Manager Ical//NONSGML Events //EN
CALSCALE:GREGORIAN

BEGIN:VEVENT

DTSTART:20260528T120000Z
DTEND:20260528T083339Z
LOCATION:Kidderminster Town Hall, Vicar Street, Kidderminster
SUMMARY:The Italian Bros – Live Interactive Show
DESCRIPTION:<p>Get ready for a high-energy, laugh-out-loud interactive experience the whole family will love! Join the Italian Bros on an action-packed mission to rescue the princess—but they can’t do it without your help… An evil enemy is standing in their way, and only YOU can help uncover the clues, solve the challenges, and defeat the ultimate&#8230;</p>
<p>The post <a href="https://raring2go.co.uk/event/the-italian-bros/">The Italian Bros &#8211; Live Interactive Show</a> appeared first on <a href="https://raring2go.co.uk">Raring2go!</a>.</p>

END:VEVENT
END:VCALENDAR
