BEGIN:VCALENDAR
VERSION:2.0
PRODID:-//WP EVENT Manager Ical//NONSGML Events //EN
CALSCALE:GREGORIAN

BEGIN:VEVENT

DTSTART:20240414T070000Z
DTEND:20240414T160000Z
LOCATION:Santa Pod Raceway, Airfield Road, Wellingborough
SUMMARY:The Fast Show
DESCRIPTION:<p>With Saturday Night Special RWYB on 13th April &#38; Weekend Camping Welcome to The Fast Show at Santa Pod Raceway, the first performance and modified car event on the Santa Pod calendar. Featuring huge club stand displays, Run What Ya Brung, Sports Compact Drag Racing, Drift Rides, Stunt Displays, Jet Car, Trade Village, Caterers, Fun&#8230;</p>
<p>The post <a href="https://raring2go.co.uk/event/the-fast-show-2/">The Fast Show</a> appeared first on <a href="https://raring2go.co.uk">Raring2go!</a>.</p>

END:VEVENT
END:VCALENDAR
