BEGIN:VCALENDAR
VERSION:2.0
PRODID:-//WP EVENT Manager Ical//NONSGML Events //EN
CALSCALE:GREGORIAN

BEGIN:VEVENT

DTSTART:20250928T120000Z
DTEND:20250928T121500Z
LOCATION:De Montfort Hall, Granville Road, Leicester
SUMMARY:The Dinosaur That Pooped – A Rock Show!
DESCRIPTION:<p>Brand New for 2025! When Danny and Dino’s favourite rock band are playing their last ever concert, they go on a quest to get the last two tickets. But with a villainous band manager lurking, nothing goes to plan. Will the band perform? Will Danny rock out? Or will Dino’s rumbling tummy save the day?&#8230;</p>
<p>The post <a href="https://raring2go.co.uk/event/the-dinosaur-that-pooped-a-rock-show-3/">The Dinosaur That Pooped &#8211; A Rock Show!</a> appeared first on <a href="https://raring2go.co.uk">Raring2go!</a>.</p>

END:VEVENT
END:VCALENDAR
