BEGIN:VCALENDAR
VERSION:2.0
PRODID:-//WP EVENT Manager Ical//NONSGML Events //EN
CALSCALE:GREGORIAN

BEGIN:VEVENT

DTSTART:20260818T180732Z
DTEND:20260818T180732Z
LOCATION:PLAYHOUSE Whitley Bay, Marine Avenue, Whitley Bay
SUMMARY:The Dinosaur That Pooped, Playhouse Whitley Bay
DESCRIPTION:<p>Adapted from the number 1 best-selling books by Tom Fletcher and Dougie Poynter, the whole family will have a poopy good time enjoying a brand, new story for the stage. Featuring new songs by Tom and Dougie, a lot of laughs and a whole lot of poo! Produced by Mark Thompson Productions Limited and Directed&#8230;</p>
<p>The post <a href="https://raring2go.co.uk/event/the-dinosaur-that-pooped-2/">The Dinosaur That Pooped, Playhouse Whitley Bay</a> appeared first on <a href="https://raring2go.co.uk">Raring2go!</a>.</p>

END:VEVENT
END:VCALENDAR
