BEGIN:VCALENDAR
VERSION:2.0
PRODID:-//WP EVENT Manager Ical//NONSGML Events //EN
CALSCALE:GREGORIAN

BEGIN:VEVENT

DTSTART:20240830T090000Z
DTEND:20240901T153000Z
LOCATION:Farnborough International Exhibition and Conference Centre, Etps Road, Farnborough
SUMMARY:The Creative Craft Show
DESCRIPTION:<p>Creative Craft Show returns to Farnborough International with brand new Stitching Show The Creative Craft Show will return to Farnborough International for a third year running, with brand new sister show, The Stitching Show. The show will run from Friday 30th August to Sunday 1st September 2024. This show is a haven for knitting, cross stitch, mixed&#8230;</p>
<p>The post <a href="https://raring2go.co.uk/event/the-creative-craft-show/">The Creative Craft Show</a> appeared first on <a href="https://raring2go.co.uk">Raring2go!</a>.</p>

END:VEVENT
END:VCALENDAR
