BEGIN:VCALENDAR
VERSION:2.0
PRODID:-//WP EVENT Manager Ical//NONSGML Events //EN
CALSCALE:GREGORIAN

BEGIN:VEVENT

DTSTART:20240806T091737Z
DTEND:20240901T091737Z
LOCATION:Wallsend Rugby Club, St Peters field, Wallsend
SUMMARY:The Craziest Showman, Wallsend Rugby Club
DESCRIPTION:<p>Danny and Clive are back in the Big Top this summer at Wallsend Rugby Club. Cirque du Hilarious present The Craziest Showman. Excitement and comedy for all the family. Complete with Magic, Madness, Mahem, Comedy, Dancing Girls, and Slapstick not to be missed. www.cirqueduhilarious.co.uk</p>
<p>The post <a href="https://raring2go.co.uk/event/the-craziest-showman/">The Craziest Showman, Wallsend Rugby Club</a> appeared first on <a href="https://raring2go.co.uk">Raring2go!</a>.</p>

END:VEVENT
END:VCALENDAR
