BEGIN:VCALENDAR
VERSION:2.0
PRODID:-//WP EVENT Manager Ical//NONSGML Events //EN
CALSCALE:GREGORIAN

BEGIN:VEVENT

DTSTART:20251129T100000Z
DTEND:20251224T163000Z
LOCATION:Attwell Farm Park, Seafield Lane, Redditch
SUMMARY:The Chronicles of Christmas Experience at Attwell Farm
DESCRIPTION:<p>Father Christmas &#38; The Chronicles of Christmas Experience Your magical journey begins at Candy Cane Customs, before making your way to Father Christmas’s Grotto, where festive lights twinkle and Christmas cheer fills the air. At the door, you’ll be warmly welcomed by Santa’s Head Elf, who will let Father Christmas know your family has safely arrived. When&#8230;</p>
<p>The post <a href="https://raring2go.co.uk/event/the-chronicles-of-christmas-experience-at-attwell-farm/">The Chronicles of Christmas Experience at Attwell Farm</a> appeared first on <a href="https://raring2go.co.uk">Raring2go!</a>.</p>

END:VEVENT
END:VCALENDAR
