BEGIN:VCALENDAR
VERSION:2.0
PRODID:-//WP EVENT Manager Ical//NONSGML Events //EN
CALSCALE:GREGORIAN

BEGIN:VEVENT

DTSTART:20241012T130000Z
DTEND:20241011T230000Z
LOCATION:Stantonbury Theatre, Stantonbury, Milton Keynes
SUMMARY:The Bubble Show!
DESCRIPTION:<p>Join Mr. Bubbles with his extraordinary soap bubbles in all shapes and sizes!  The Bubble Show is a unique blend of magic, storytelling, science and bubble art! Enjoy bouncy bubbles, bubbles inside bubbles, smoke bubbles, square bubbles, giant bubbles, and even fire bubbles! Actor, storyteller, and Guinness World Record holder, The Highland Joker, is one of the top bubble artists&#8230;</p>
<p>The post <a href="https://raring2go.co.uk/event/the-bubble-show-5/">The Bubble Show!</a> appeared first on <a href="https://raring2go.co.uk">Raring2go!</a>.</p>

END:VEVENT
END:VCALENDAR
