BEGIN:VCALENDAR
VERSION:2.0
PRODID:-//WP EVENT Manager Ical//NONSGML Events //EN
CALSCALE:GREGORIAN

BEGIN:VEVENT

DTSTART:20240815T090000Z
DTEND:20240818T160000Z
LOCATION:Farnborough International Exhibition & Conference Centre, Etps Road, Farnborough
SUMMARY:The British Motor Show – Farnborough International
DESCRIPTION:<p>Family fun, redefined. More than just a motor show, join us for a unique day out packed with amazing entertainment, live action and driving experiences. With stunt shows, celebrities and live entertainment alongside every type of car from classics and supercars to modified and motorsport, as well as all the latest new cars, you’re guaranteed&#8230;</p>
<p>The post <a href="https://raring2go.co.uk/event/the-british-motor-show-farnborough-international/">The British Motor Show &#8211; Farnborough International</a> appeared first on <a href="https://raring2go.co.uk">Raring2go!</a>.</p>

END:VEVENT
END:VCALENDAR
