BEGIN:VCALENDAR
VERSION:2.0
PRODID:-//WP EVENT Manager Ical//NONSGML Events //EN
CALSCALE:GREGORIAN

BEGIN:VEVENT

DTSTART:20230529T090000Z
DTEND:20230606T160000Z
LOCATION:Stonehenge Visitor Centre, Salisbury
SUMMARY:The Big LEGO® Brick Build at Stonehenge
DESCRIPTION:<p>Join us as we build a replica Stonehenge with LEGO® bricks. Help our LEGO® brick artists Kevin and Emily to complete our giant LEGO® brick sculpture. Come to Stonehenge this May half-term (27 May &#8211; 4 June) and help build a huge LEGO® brick model of Stonehenge – made up of over 400,000 bricks. Our&#8230;</p>
<p>The post <a href="https://raring2go.co.uk/event/the-big-lego-brick-build-at-stonehenge/">The Big LEGO® Brick Build at Stonehenge</a> appeared first on <a href="https://raring2go.co.uk">Raring2go!</a>.</p>

END:VEVENT
END:VCALENDAR
