BEGIN:VCALENDAR
VERSION:2.0
PRODID:-//WP EVENT Manager Ical//NONSGML Events //EN
CALSCALE:GREGORIAN

BEGIN:VEVENT

DTSTART:20250415T130000Z
DTEND:20250415T143000Z
LOCATION:Swan Theatre, The Moors, Worcester
SUMMARY:The Amazing Bubble Man
DESCRIPTION:<p>The Amazing Bubble Man Louis Pearl has been thrilling audiences around the world for over 30 years with the art, magic, science, and fun of bubbles. He is a favourite at the Edinburgh Fringe Festival, where he has enjoyed twelve years of sell-out success. Louis explores the breathtaking dynamics of bubbles, combining comedy and artistry&#8230;</p>
<p>The post <a href="https://raring2go.co.uk/event/the-amazing-bubble-man-2/">The Amazing Bubble Man</a> appeared first on <a href="https://raring2go.co.uk">Raring2go!</a>.</p>

END:VEVENT
END:VCALENDAR
