BEGIN:VCALENDAR
VERSION:2.0
PRODID:-//WP EVENT Manager Ical//NONSGML Events //EN
CALSCALE:GREGORIAN

BEGIN:VEVENT

DTSTART:20240722T151732Z
DTEND:20240823T151732Z
LOCATION:Tettenhall College Independent Day and Boarding School, Wood Road, Tettenhall, Wolverhampton
SUMMARY:Tettenhall College Summer Camp
DESCRIPTION:<p>Mon 22 July &#8211; Fri 23 August 2024. Let your child embark on an unforgettable adventure this summer at Tettenhall College Summer Camp! Our camp offers a unique blend of excitement and learning for children aged 5-14 years old. To book visit www.tettenhallcollege.co.uk/event/tettenhall-college-summer-camp-2024/</p>
<p>The post <a href="https://raring2go.co.uk/event/tettenhall-college-summer-camp/">Tettenhall College Summer Camp</a> appeared first on <a href="https://raring2go.co.uk">Raring2go!</a>.</p>

END:VEVENT
END:VCALENDAR
