BEGIN:VCALENDAR
VERSION:2.0
PRODID:-//WP EVENT Manager Ical//NONSGML Events //EN
CALSCALE:GREGORIAN

BEGIN:VEVENT

DTSTART:20260526T093052Z
DTEND:20260529T093052Z
LOCATION:Repton Prep, Milton, Prep
SUMMARY:Team Super Sports Camp – Repton Prep School
DESCRIPTION:<p>Hi. We can see you’re localised to Raring2go! Newcastle and Gateshead but this content is from our Solihull edition. To see more content from there please click here.Team Super Sport Camps were founded with one fundamental aim; to bring top level coaching in a fun environment to players of all abilities aged 5-16. Choose from&#8230;</p>
<p>The post <a href="https://raring2go.co.uk/event/team-super-sports-camp-repton-prep-school/">Team Super Sports Camp &#8211; Repton Prep School</a> appeared first on <a href="https://raring2go.co.uk">Raring2go!</a>.</p>

END:VEVENT
END:VCALENDAR
