BEGIN:VCALENDAR
VERSION:2.0
PRODID:-//WP EVENT Manager Ical//NONSGML Events //EN
CALSCALE:GREGORIAN

BEGIN:VEVENT

DTSTART:20260807T180112Z
DTEND:20260807T180112Z
LOCATION:Playhouse Whitley Bay, Marine Avenue, Whitley Bay
SUMMARY:Taylormania, Playhouse Whitley Bay
DESCRIPTION:<p>Katy Ellis, a self-obsessed ‘Swiftie’ with an incredible live band and dancers will deliver the most authentic recreation of a Taylor experience. The show has already taken ‘Swiftie’ fans across the world by storm! Date: Friday 7th August 2026 Time: 6pm Please note this event has a 14+ age restriction. If you are 14 or under&#8230;</p>
<p>The post <a href="https://raring2go.co.uk/event/taylormania-playhouse-whitley-bay/">Taylormania, Playhouse Whitley Bay</a> appeared first on <a href="https://raring2go.co.uk">Raring2go!</a>.</p>

END:VEVENT
END:VCALENDAR
