BEGIN:VCALENDAR
VERSION:2.0
PRODID:-//WP EVENT Manager Ical//NONSGML Events //EN
CALSCALE:GREGORIAN

BEGIN:VEVENT

DTSTART:20250826T124520Z
DTEND:20250829T124520Z
LOCATION:School Lane, Tewin, Welwyn
SUMMARY:Summer School at DH Dance Academy
DESCRIPTION:<p>Four fun days of performing arts in Tewin with DH Dance Academy this August. Tickets go on sale 1st May! Click for details </p>
<p>The post <a href="https://raring2go.co.uk/event/summer-school-at-dh-dance-academy/">Summer School at DH Dance Academy</a> appeared first on <a href="https://raring2go.co.uk">Raring2go!</a>.</p>

END:VEVENT
END:VCALENDAR
