BEGIN:VCALENDAR
VERSION:2.0
PRODID:-//WP EVENT Manager Ical//NONSGML Events //EN
CALSCALE:GREGORIAN

BEGIN:VEVENT

DTSTART:20240720T100358Z
DTEND:20240901T100358Z
LOCATION:Christchurch Mansion, Soane Street, Ipswich
SUMMARY:Summer Holidays at Christchurch Mansion
DESCRIPTION:<p>Meet and handle live animals at our interactive shows, get creative at craft workshops, embark on a trail around the Mansion and so much more! About This Event Suns out, fun’s out with Woolly’s Summer Holiday Trail! Help Woolly track down all the holiday items scattered around the Mansion. It’s a sunny search with a&#8230;</p>
<p>The post <a href="https://raring2go.co.uk/event/summer-holidays-at-christchurch-mansion/">Summer Holidays at Christchurch Mansion</a> appeared first on <a href="https://raring2go.co.uk">Raring2go!</a>.</p>

END:VEVENT
END:VCALENDAR
