BEGIN:VCALENDAR
VERSION:2.0
PRODID:-//WP EVENT Manager Ical//NONSGML Events //EN
CALSCALE:GREGORIAN

BEGIN:VEVENT

DTSTART:20230722T095459Z
DTEND:20230903T095459Z
LOCATION:Raby Castle, Deer Park & The Plotters' Forest, Staindrop, Darlington
SUMMARY:Summer Holiday Activities at Raby Castle and High Force Waterfall
DESCRIPTION:<p>Enjoy the Great Outdoors at Raby this Summer! With exciting new trails and special events planned throughout its stunning parkland, Raby is providing families with plenty of outdoor fun and entertainment throughout the summer. At Raby Castle’s adventure playground, little imaginations can run wild as they embark on its new trail – The Lost Forest.&#8230;</p>
<p>The post <a href="https://raring2go.co.uk/event/summer-holiday-activities-at-raby-castle-and-high-force-waterfall/">Summer Holiday Activities at Raby Castle and High Force Waterfall</a> appeared first on <a href="https://raring2go.co.uk">Raring2go!</a>.</p>

END:VEVENT
END:VCALENDAR
