BEGIN:VCALENDAR
VERSION:2.0
PRODID:-//WP EVENT Manager Ical//NONSGML Events //EN
CALSCALE:GREGORIAN

BEGIN:VEVENT

DTSTART:20250726T100348Z
DTEND:20250726T100348Z
LOCATION:Shuttleworth Visitor Attractions, Shuttleworth
SUMMARY:Summer Air Show 2025 @ Shuttleworth
DESCRIPTION:<p>Experience breath-taking displays of both visiting and Collection aircraft, explore the extensive collection of vehicles and aircraft, and take a stroll through the Regency Garden. Make the most of free activities at the Discovery Zones and enjoy classic rides and attractions at the fun fair.</p>
<p>The post <a href="https://raring2go.co.uk/event/summer-air-show-2025-shuttleworth/">Summer Air Show 2025 @ Shuttleworth</a> appeared first on <a href="https://raring2go.co.uk">Raring2go!</a>.</p>

END:VEVENT
END:VCALENDAR
