BEGIN:VCALENDAR
VERSION:2.0
PRODID:-//WP EVENT Manager Ical//NONSGML Events //EN
CALSCALE:GREGORIAN

BEGIN:VEVENT

DTSTART:20260328T152509Z
DTEND:20260412T142509Z
LOCATION:Stratford Butterfly Farm, Stratford-upon-Avon
SUMMARY:Stratford Butterfly Farm – Easter Activities
DESCRIPTION:<p>This Easter, Stratford-upon-Avon Butterfly Farm is proud to support its sister conservation and breeding project, ‘Fallen Stones Butterfly Farm’ in Belize. During the holidays from 28 March – 12 April, visitors can experience the breathtaking beauty of hundreds of Blue Morpho butterflies, which have been sourced directly from the project. Known for their iridescent, shimmering&#8230;</p>
<p>The post <a href="https://raring2go.co.uk/event/stratford-butterfly-farm-easter-activities/">Stratford Butterfly Farm &#8211; Easter Activities</a> appeared first on <a href="https://raring2go.co.uk">Raring2go!</a>.</p>

END:VEVENT
END:VCALENDAR
