BEGIN:VCALENDAR
VERSION:2.0
PRODID:-//WP EVENT Manager Ical//NONSGML Events //EN
CALSCALE:GREGORIAN

BEGIN:VEVENT

DTSTART:20240907T160807Z
DTEND:20240908T160807Z
LOCATION:Whistlestop Valley, Park Mill Way, Clayton West, Huddersfield HD8 9XJ
SUMMARY:Steam and Diesel Gala Weekend
DESCRIPTION:<p>Steam and Diesel Gala Weekend &#8211; more details coming soon. Book tickets NOW online. To find more, visit Whistlestop Valley HERE For more local events visit our What’s On page HERE &#160;</p>
<p>The post <a href="https://raring2go.co.uk/event/steam-and-diesel-gala-weekend/">Steam and Diesel Gala Weekend</a> appeared first on <a href="https://raring2go.co.uk">Raring2go!</a>.</p>

END:VEVENT
END:VCALENDAR
