BEGIN:VCALENDAR
VERSION:2.0
PRODID:-//WP EVENT Manager Ical//NONSGML Events //EN
CALSCALE:GREGORIAN

BEGIN:VEVENT

DTSTART:20241220T151751Z
DTEND:20241223T151751Z
LOCATION:Wolverhampton Wanderers Football Club, Waterloo Road, Wolverhampton
SUMMARY:Santa Stadium Tours at Wolverhampton Football Club and Wolves Museum
DESCRIPTION:<p>Fri 20 – Mon 23 December 2024 Santa Stadium Tours at Wolverhampton Football Club and Wolves Museum Meet and greet with Santa and Wilfred plus a special Wolves present for all kids. Book your festive guided experience behind the scenes at Molineux and a visit to the Wolves Museum now! For more details visit: https://events.wolves.co.uk/molineux-stadium-tours/wolves-presents/&#8230;</p>
<p>The post <a href="https://raring2go.co.uk/event/stadium-tours-at-wolverhampton-wanderers-football-club/">Santa Stadium Tours at Wolverhampton Football Club and Wolves Museum</a> appeared first on <a href="https://raring2go.co.uk">Raring2go!</a>.</p>

END:VEVENT
END:VCALENDAR
