BEGIN:VCALENDAR
VERSION:2.0
PRODID:-//WP EVENT Manager Ical//NONSGML Events //EN
CALSCALE:GREGORIAN

BEGIN:VEVENT

DTSTART:20240427T084500Z
DTEND:20240427T110000Z
LOCATION:St Hilary's School, Godalming
SUMMARY:St. Hilary’s School Godalming – Open Mornings
DESCRIPTION:<p>Spring Term 2024 Saturday 27 April, 2024 2 start times available &#8211; booking required Our tours begin with a Welcome Presentation from our Headteacher, Mrs Whittingham. This will be followed by a tour of the school with a member of our Teaching Staff and a Senior Pupil who will give you an insight into life at St&#8230;</p>
<p>The post <a href="https://raring2go.co.uk/event/st-hilarys-school-godalming-open-mornings/">St. Hilary&#8217;s School Godalming &#8211; Open Mornings</a> appeared first on <a href="https://raring2go.co.uk">Raring2go!</a>.</p>

END:VEVENT
END:VCALENDAR
