BEGIN:VCALENDAR
VERSION:2.0
PRODID:-//WP EVENT Manager Ical//NONSGML Events //EN
CALSCALE:GREGORIAN

BEGIN:VEVENT

DTSTART:20250314T090000Z
DTEND:20250507T110000Z
LOCATION:St Catherine's, Station Road, Bramley, Guildford
SUMMARY:St. Catherine’s Bramley – Open Days
DESCRIPTION:<p>Prep School: Friday 14th March, 9.30-11.45am Wednesday 7th May, 9.30-11.45am They also offer 1:1 tours if you are unable to make the Open Day dates here! Please call Sarah Waller, Registrar on 01483 899665 or email prepadmissions@stcatherines.info &#160;</p>
<p>The post <a href="https://raring2go.co.uk/event/st-catherines-bramley-open-day/">St. Catherine&#8217;s Bramley &#8211; Open Days</a> appeared first on <a href="https://raring2go.co.uk">Raring2go!</a>.</p>

END:VEVENT
END:VCALENDAR
