BEGIN:VCALENDAR
VERSION:2.0
PRODID:-//WP EVENT Manager Ical//NONSGML Events //EN
CALSCALE:GREGORIAN

BEGIN:VEVENT

DTSTART:20261028T135628Z
DTEND:20261030T135628Z
LOCATION:Live Theatre, Broad Chare, Newcastle upon Tyne
SUMMARY:Spooky Tales Workshops , Live Theatre, Newcastle
DESCRIPTION:<p>Live Tales Presents Spooky Tales A fun family workshop for primary school age children. Join us for a spine-tingling story making adventure where imaginations run wild! Using costumes, props, and puppets, children will work together to create a brand new (not so) spooky tale in a playful, friendly session full of laughs, gasps, and a&#8230;</p>
<p>The post <a href="https://raring2go.co.uk/event/spooky-tales-family-workshops/">Spooky Tales Workshops , Live Theatre, Newcastle</a> appeared first on <a href="https://raring2go.co.uk">Raring2go!</a>.</p>

END:VEVENT
END:VCALENDAR
